BEGIN:VCALENDAR
VERSION:2.0
PRODID:-//Israels Vänner - ECPv6.15.20//NONSGML v1.0//EN
CALSCALE:GREGORIAN
METHOD:PUBLISH
X-ORIGINAL-URL:https://www.israelsvanner.se
X-WR-CALDESC:Händelser för Israels Vänner
REFRESH-INTERVAL;VALUE=DURATION:PT1H
X-Robots-Tag:noindex
X-PUBLISHED-TTL:PT1H
BEGIN:VTIMEZONE
TZID:Europe/Stockholm
BEGIN:DAYLIGHT
TZOFFSETFROM:+0100
TZOFFSETTO:+0200
TZNAME:CEST
DTSTART:20250330T010000
END:DAYLIGHT
BEGIN:STANDARD
TZOFFSETFROM:+0200
TZOFFSETTO:+0100
TZNAME:CET
DTSTART:20251026T010000
END:STANDARD
BEGIN:DAYLIGHT
TZOFFSETFROM:+0100
TZOFFSETTO:+0200
TZNAME:CEST
DTSTART:20260329T010000
END:DAYLIGHT
BEGIN:STANDARD
TZOFFSETFROM:+0200
TZOFFSETTO:+0100
TZNAME:CET
DTSTART:20261025T010000
END:STANDARD
BEGIN:DAYLIGHT
TZOFFSETFROM:+0100
TZOFFSETTO:+0200
TZNAME:CEST
DTSTART:20270328T010000
END:DAYLIGHT
BEGIN:STANDARD
TZOFFSETFROM:+0200
TZOFFSETTO:+0100
TZNAME:CET
DTSTART:20271031T010000
END:STANDARD
END:VTIMEZONE
BEGIN:VEVENT
DTSTART;TZID=Europe/Stockholm:20260425T160000
DTEND;TZID=Europe/Stockholm:20260425T180000
DTSTAMP:20260420T153644
CREATED:20260113T083518Z
LAST-MODIFIED:20260420T062131Z
UID:10000152-1777132800-1777140000@www.israelsvanner.se
SUMMARY:Årsmöte -26
DESCRIPTION:Vi ser fram emot en inspirerande festlig eftermiddag/kväll. Vi hoppas på härlig gemenskap\, god mat och en trosstärkande proklamation om framtiden och vår inriktning för Israels Vänners arbete.\nDärför vill vi välkomna alla våra medlemmar\, nya och gamla! Missa inte möjligheten att vara med på årsmötet! Självklart kan du också följa och delta i mötet hemifrån via nätet. \nÅrsmötet börjar kl. 16.00 med en god bit mat samt information om vad som händer just nu i föreningens arbete. Därefter följer de vanliga årsmötespunkterna. \nAnmälan är nu stängd för detta år!  \nSista dag för anmälan är en vecka innan\, dvs söndagen den 19 april. \nVarmt välkommen! \n  \nMöteshandlingar skickas till anmälda den 20 april.  \n 
URL:https://www.israelsvanner.se/event/arsmote/
LOCATION:Wesleykyrkan\, Limhamn\, Linnégatan 27\, Limhamn\, 216 12
ATTACH;FMTTYPE=image/jpeg:https://www.israelsvanner.se/wp-content/uploads/2026/01/armote26-banner-1.jpg
ORGANIZER;CN="Israels V%C3%A4nner":MAILTO:info@israelsvanner.se
END:VEVENT
END:VCALENDAR