BEGIN:VCALENDAR
VERSION:2.0
PRODID:-//Israels Vänner - ECPv6.15.20//NONSGML v1.0//EN
CALSCALE:GREGORIAN
METHOD:PUBLISH
X-ORIGINAL-URL:https://www.israelsvanner.se
X-WR-CALDESC:Händelser för Israels Vänner
REFRESH-INTERVAL;VALUE=DURATION:PT1H
X-Robots-Tag:noindex
X-PUBLISHED-TTL:PT1H
BEGIN:VTIMEZONE
TZID:Europe/Stockholm
BEGIN:DAYLIGHT
TZOFFSETFROM:+0100
TZOFFSETTO:+0200
TZNAME:CEST
DTSTART:20250330T010000
END:DAYLIGHT
BEGIN:STANDARD
TZOFFSETFROM:+0200
TZOFFSETTO:+0100
TZNAME:CET
DTSTART:20251026T010000
END:STANDARD
BEGIN:DAYLIGHT
TZOFFSETFROM:+0100
TZOFFSETTO:+0200
TZNAME:CEST
DTSTART:20260329T010000
END:DAYLIGHT
BEGIN:STANDARD
TZOFFSETFROM:+0200
TZOFFSETTO:+0100
TZNAME:CET
DTSTART:20261025T010000
END:STANDARD
BEGIN:DAYLIGHT
TZOFFSETFROM:+0100
TZOFFSETTO:+0200
TZNAME:CEST
DTSTART:20270328T010000
END:DAYLIGHT
BEGIN:STANDARD
TZOFFSETFROM:+0200
TZOFFSETTO:+0100
TZNAME:CET
DTSTART:20271031T010000
END:STANDARD
END:VTIMEZONE
BEGIN:VEVENT
DTSTART;VALUE=DATE:20260307
DTEND;VALUE=DATE:20260309
DTSTAMP:20260421T172510
CREATED:20260212T081448Z
LAST-MODIFIED:20260212T081448Z
UID:10000163-1772841600-1773014399@www.israelsvanner.se
SUMMARY:Kil\, Israelhelg med Anna Udd-Lindblom
DESCRIPTION:7-8 Mars  Israel-helg på Sörgården\, Kil. \nFör info o anmälan tel. 072 055 31 01 eller epost till: sorgarden@kristnaashram.se
URL:https://www.israelsvanner.se/event/kil-israelhelg-med-anna-udd-lindblom/
LOCATION:Sörgården\, Kil
ATTACH;FMTTYPE=image/jpeg:https://www.israelsvanner.se/wp-content/uploads/2025/09/Anna_Udd-Rep.jpg
END:VEVENT
END:VCALENDAR