BEGIN:VCALENDAR
VERSION:2.0
PRODID:-//Israels Vänner - ECPv6.15.20//NONSGML v1.0//EN
CALSCALE:GREGORIAN
METHOD:PUBLISH
X-WR-CALNAME:Israels Vänner
X-ORIGINAL-URL:https://www.israelsvanner.se
X-WR-CALDESC:Händelser för Israels Vänner
REFRESH-INTERVAL;VALUE=DURATION:PT1H
X-Robots-Tag:noindex
X-PUBLISHED-TTL:PT1H
BEGIN:VTIMEZONE
TZID:Europe/Stockholm
BEGIN:DAYLIGHT
TZOFFSETFROM:+0100
TZOFFSETTO:+0200
TZNAME:CEST
DTSTART:20250330T010000
END:DAYLIGHT
BEGIN:STANDARD
TZOFFSETFROM:+0200
TZOFFSETTO:+0100
TZNAME:CET
DTSTART:20251026T010000
END:STANDARD
BEGIN:DAYLIGHT
TZOFFSETFROM:+0100
TZOFFSETTO:+0200
TZNAME:CEST
DTSTART:20260329T010000
END:DAYLIGHT
BEGIN:STANDARD
TZOFFSETFROM:+0200
TZOFFSETTO:+0100
TZNAME:CET
DTSTART:20261025T010000
END:STANDARD
BEGIN:DAYLIGHT
TZOFFSETFROM:+0100
TZOFFSETTO:+0200
TZNAME:CEST
DTSTART:20270328T010000
END:DAYLIGHT
BEGIN:STANDARD
TZOFFSETFROM:+0200
TZOFFSETTO:+0100
TZNAME:CET
DTSTART:20271031T010000
END:STANDARD
END:VTIMEZONE
BEGIN:VEVENT
DTSTART;VALUE=DATE:20260330
DTEND;VALUE=DATE:20260406
DTSTAMP:20260422T134852
CREATED:20260113T084610Z
LAST-MODIFIED:20260304T103456Z
UID:10000153-1774828800-1775433599@www.israelsvanner.se
SUMMARY:VI FIRAR PÅSK TILLSAMMANS!
DESCRIPTION:VI FIRAR PÅSK TILLSAMMANS! 2 – 5 april\nIsraels Vänner i samarbete med Pingstkyrkan Elim i Trelleborg\, Malmö International Church i Malmö och Strandkyrkan i Skanör.\nUnder helgen kommer vi att få lyssna till undervisning av Dan Johansson\, Ingmar Aronson\, Torbjörn Aronson\, Daniel Mämecke\, Samuel Liljeblom & Carlos Villablanca. \n \nPåsken\nÄr en av våra viktigaste högtider inom den kristna kyrkan\, vars budskap är avgörande\, inspirerande och utrustande för varje människa. Därför vill vi inbjuda alla våra vänner till en spännande helg med biblisk undervisning\, Andens närvaro och en god gemenskap. Vi vill ge oss själva möjligheten att återupptäcka\, återerövra och proklamera Påskens fantastiska budskap i vår tid. \n  \n\n\nPROGRAM\nSTILLA VECKAN\nMåndag till onsdag – Andakt på nätet kl. 18.00 (Kan ses genom att besöka oss på Facebook). \nTORSDAG 2/4 ”Återupptäcka”\nKvällsmöte med lovsång\, predikan och förbön. Vi firar också Herrens måltid kl. 19.00. \nFREDAG 3/4 ”Återerövra”\nStor samling 16.00 – 16.20 i kyrksalen\nBarnsamling 16.30 – 18.30\nSeminarier 16.30 – 17.30\nKvällsfika kl. 18.30  \n19.00 – 21.00 Kvällsmöte med lovsång\, predikan och förbön.  \nLÖRDAG 4/4 ”Proklamera”\nStor samling 16.00 – 16.30 i kyrksalen\nBarnsamling 16.30 – 17.30\nSeminarier 16.30 – 17.30 \n19.00 – 21.00 Kvällsmöte med lovsång\, predikan och förbön. \nSöndag 5/4 Han är uppstånden\n11.00 Gudstjänst med lovsång\, predikan och förbön. 
URL:https://www.israelsvanner.se/event/vi-firar-pask-tillsammans/
LOCATION:Pingstkyrkan\, Trelleborg\, Engelbrektsgatan 68\, Trelleborg\, Sweden
ATTACH;FMTTYPE=image/jpeg:https://www.israelsvanner.se/wp-content/uploads/2026/01/sociala_medier-4.jpg
ORGANIZER;CN="Israels V%C3%A4nner":MAILTO:info@israelsvanner.se
END:VEVENT
END:VCALENDAR