BEGIN:VCALENDAR
VERSION:2.0
PRODID:-//Israels Vänner - ECPv6.15.20//NONSGML v1.0//EN
CALSCALE:GREGORIAN
METHOD:PUBLISH
X-WR-CALNAME:Israels Vänner
X-ORIGINAL-URL:https://www.israelsvanner.se
X-WR-CALDESC:Händelser för Israels Vänner
REFRESH-INTERVAL;VALUE=DURATION:PT1H
X-Robots-Tag:noindex
X-PUBLISHED-TTL:PT1H
BEGIN:VTIMEZONE
TZID:Europe/Stockholm
BEGIN:DAYLIGHT
TZOFFSETFROM:+0100
TZOFFSETTO:+0200
TZNAME:CEST
DTSTART:20240331T010000
END:DAYLIGHT
BEGIN:STANDARD
TZOFFSETFROM:+0200
TZOFFSETTO:+0100
TZNAME:CET
DTSTART:20241027T010000
END:STANDARD
BEGIN:DAYLIGHT
TZOFFSETFROM:+0100
TZOFFSETTO:+0200
TZNAME:CEST
DTSTART:20250330T010000
END:DAYLIGHT
BEGIN:STANDARD
TZOFFSETFROM:+0200
TZOFFSETTO:+0100
TZNAME:CET
DTSTART:20251026T010000
END:STANDARD
BEGIN:DAYLIGHT
TZOFFSETFROM:+0100
TZOFFSETTO:+0200
TZNAME:CEST
DTSTART:20260329T010000
END:DAYLIGHT
BEGIN:STANDARD
TZOFFSETFROM:+0200
TZOFFSETTO:+0100
TZNAME:CET
DTSTART:20261025T010000
END:STANDARD
END:VTIMEZONE
BEGIN:VEVENT
DTSTART;TZID=Europe/Stockholm:20251208T190000
DTEND;TZID=Europe/Stockholm:20251208T210000
DTSTAMP:20260421T191215
CREATED:20251119T093144Z
LAST-MODIFIED:20251119T093144Z
UID:10000143-1765220400-1765227600@www.israelsvanner.se
SUMMARY:Lagan: Det tredje templet?\, Johan Carlsèn
DESCRIPTION:Ämne:           Det tredje templet? \nTalare:           Johan Carlsèn \nTid och plats: Seminarium måndagen den 8 december kl. 19:00\,\nMissionskyrkan Lagan \n  \nArrangör:       Israelsförening Nehemja Lagan/Ljungby.
URL:https://www.israelsvanner.se/event/lagan-det-tredje-templet-johan-carlsen/
LOCATION:Missionskyrkan\, Lagan\, Lagan
END:VEVENT
END:VCALENDAR