BEGIN:VCALENDAR
VERSION:2.0
PRODID:-//Israels Vänner - ECPv6.15.20//NONSGML v1.0//EN
CALSCALE:GREGORIAN
METHOD:PUBLISH
X-WR-CALNAME:Israels Vänner
X-ORIGINAL-URL:https://www.israelsvanner.se
X-WR-CALDESC:Händelser för Israels Vänner
REFRESH-INTERVAL;VALUE=DURATION:PT1H
X-Robots-Tag:noindex
X-PUBLISHED-TTL:PT1H
BEGIN:VTIMEZONE
TZID:Europe/Stockholm
BEGIN:DAYLIGHT
TZOFFSETFROM:+0100
TZOFFSETTO:+0200
TZNAME:CEST
DTSTART:20240331T010000
END:DAYLIGHT
BEGIN:STANDARD
TZOFFSETFROM:+0200
TZOFFSETTO:+0100
TZNAME:CET
DTSTART:20241027T010000
END:STANDARD
BEGIN:DAYLIGHT
TZOFFSETFROM:+0100
TZOFFSETTO:+0200
TZNAME:CEST
DTSTART:20250330T010000
END:DAYLIGHT
BEGIN:STANDARD
TZOFFSETFROM:+0200
TZOFFSETTO:+0100
TZNAME:CET
DTSTART:20251026T010000
END:STANDARD
BEGIN:DAYLIGHT
TZOFFSETFROM:+0100
TZOFFSETTO:+0200
TZNAME:CEST
DTSTART:20260329T010000
END:DAYLIGHT
BEGIN:STANDARD
TZOFFSETFROM:+0200
TZOFFSETTO:+0100
TZNAME:CET
DTSTART:20261025T010000
END:STANDARD
END:VTIMEZONE
BEGIN:VEVENT
DTSTART;TZID=Europe/Stockholm:20250909T180000
DTEND;TZID=Europe/Stockholm:20250909T200000
DTSTAMP:20260420T025315
CREATED:20250901T083926Z
LAST-MODIFIED:20250901T083926Z
UID:10000111-1757440800-1757448000@www.israelsvanner.se
SUMMARY:Borgholm: Lokalgruppssamling
DESCRIPTION:Ämne: Kristendomens utveckling från början\nTalare: Mikael Almqvist\nDatum & tid: Tisdagen den 9 sept  kl 18.00\nPlats: I Borgholm IOGT-NTO lokalen\, vi är en trappa upp. Gå in i entrén\, till höger är trappan. \nVi ordnar med en enkel fika. \nMed vänlig hälsning\nIsraels vänner Kalmar-Ölands gruppen
URL:https://www.israelsvanner.se/event/borgholm-lokalgruppssamling/
LOCATION:IOGT-NTO\, Borgholm\, Östra Kyrkogatan 5\, Borgholm\, 387 31
END:VEVENT
END:VCALENDAR