BEGIN:VCALENDAR
VERSION:2.0
PRODID:-//Israels Vänner - ECPv6.15.20//NONSGML v1.0//EN
CALSCALE:GREGORIAN
METHOD:PUBLISH
X-ORIGINAL-URL:https://www.israelsvanner.se
X-WR-CALDESC:Händelser för Israels Vänner
REFRESH-INTERVAL;VALUE=DURATION:PT1H
X-Robots-Tag:noindex
X-PUBLISHED-TTL:PT1H
BEGIN:VTIMEZONE
TZID:Europe/Stockholm
BEGIN:DAYLIGHT
TZOFFSETFROM:+0100
TZOFFSETTO:+0200
TZNAME:CEST
DTSTART:20240331T010000
END:DAYLIGHT
BEGIN:STANDARD
TZOFFSETFROM:+0200
TZOFFSETTO:+0100
TZNAME:CET
DTSTART:20241027T010000
END:STANDARD
BEGIN:DAYLIGHT
TZOFFSETFROM:+0100
TZOFFSETTO:+0200
TZNAME:CEST
DTSTART:20250330T010000
END:DAYLIGHT
BEGIN:STANDARD
TZOFFSETFROM:+0200
TZOFFSETTO:+0100
TZNAME:CET
DTSTART:20251026T010000
END:STANDARD
BEGIN:DAYLIGHT
TZOFFSETFROM:+0100
TZOFFSETTO:+0200
TZNAME:CEST
DTSTART:20260329T010000
END:DAYLIGHT
BEGIN:STANDARD
TZOFFSETFROM:+0200
TZOFFSETTO:+0100
TZNAME:CET
DTSTART:20261025T010000
END:STANDARD
BEGIN:DAYLIGHT
TZOFFSETFROM:+0100
TZOFFSETTO:+0200
TZNAME:CEST
DTSTART:20270328T010000
END:DAYLIGHT
BEGIN:STANDARD
TZOFFSETFROM:+0200
TZOFFSETTO:+0100
TZNAME:CET
DTSTART:20271031T010000
END:STANDARD
END:VTIMEZONE
BEGIN:VEVENT
DTSTART;TZID=Europe/Stockholm:20260127T190000
DTEND;TZID=Europe/Stockholm:20260127T210000
DTSTAMP:20260422T123017
CREATED:20251124T115703Z
LAST-MODIFIED:20251124T115703Z
UID:10000144-1769540400-1769547600@www.israelsvanner.se
SUMMARY:Höör: Förintelsens minnesdag   
DESCRIPTION:Tis 27 Januari  kl 19   Förintelsens minnesdag \nIgor och Inga-Britt Niemand \nNya Centrumkyrkan\, Eriksgatan 6\,Höör
URL:https://www.israelsvanner.se/event/hoor-forintelsens-minnesdag/
LOCATION:Nya Centrumkyrkan\, Höör\, Eriksgatan 6\, Höör
END:VEVENT
BEGIN:VEVENT
DTSTART;TZID=Europe/Stockholm:20250830T180000
DTEND;TZID=Europe/Stockholm:20250830T200000
DTSTAMP:20260422T123017
CREATED:20250818T093611Z
LAST-MODIFIED:20250818T093611Z
UID:10000097-1756576800-1756584000@www.israelsvanner.se
SUMMARY:Höör: Lokalgruppssamling
DESCRIPTION:Ämne: Israel – vad säger Bibeln?\nMedverkande:  Anna Udd  \nDatum & tid: 30-aug kl 18:00\nPlats: Nya Centrumkyrkan\, Höör \n 
URL:https://www.israelsvanner.se/event/hoor-lokalgruppssamling/
LOCATION:Nya Centrumkyrkan\, Höör\, Eriksgatan 6\, Höör
END:VEVENT
END:VCALENDAR