BEGIN:VCALENDAR
VERSION:2.0
PRODID:-//Israels Vänner - ECPv6.15.20//NONSGML v1.0//EN
CALSCALE:GREGORIAN
METHOD:PUBLISH
X-ORIGINAL-URL:https://www.israelsvanner.se
X-WR-CALDESC:Händelser för Israels Vänner
REFRESH-INTERVAL;VALUE=DURATION:PT1H
X-Robots-Tag:noindex
X-PUBLISHED-TTL:PT1H
BEGIN:VTIMEZONE
TZID:Europe/Stockholm
BEGIN:DAYLIGHT
TZOFFSETFROM:+0100
TZOFFSETTO:+0200
TZNAME:CEST
DTSTART:20240331T010000
END:DAYLIGHT
BEGIN:STANDARD
TZOFFSETFROM:+0200
TZOFFSETTO:+0100
TZNAME:CET
DTSTART:20241027T010000
END:STANDARD
BEGIN:DAYLIGHT
TZOFFSETFROM:+0100
TZOFFSETTO:+0200
TZNAME:CEST
DTSTART:20250330T010000
END:DAYLIGHT
BEGIN:STANDARD
TZOFFSETFROM:+0200
TZOFFSETTO:+0100
TZNAME:CET
DTSTART:20251026T010000
END:STANDARD
BEGIN:DAYLIGHT
TZOFFSETFROM:+0100
TZOFFSETTO:+0200
TZNAME:CEST
DTSTART:20260329T010000
END:DAYLIGHT
BEGIN:STANDARD
TZOFFSETFROM:+0200
TZOFFSETTO:+0100
TZNAME:CET
DTSTART:20261025T010000
END:STANDARD
END:VTIMEZONE
BEGIN:VEVENT
DTSTART;TZID=Europe/Stockholm:20250911T183000
DTEND;TZID=Europe/Stockholm:20250911T210000
DTSTAMP:20260421T102241
CREATED:20250818T095257Z
LAST-MODIFIED:20250818T095257Z
UID:10000101-1757615400-1757624400@www.israelsvanner.se
SUMMARY:Hidingsta: Lokalgruppssamling
DESCRIPTION:Ämne: Har judarna rätt till landet Israel?\nMedverkande: Magnus Jonegård \nDatum & tid: 11-sep kl. 18:30\nPlats: Norrbyås Baptistförsamling i Hidingsta
URL:https://www.israelsvanner.se/event/hidingsta-lokalgruppssamling/
LOCATION:Norrbyås baptistförsamling\, Hidingsta\, Hidingsta
END:VEVENT
END:VCALENDAR