BEGIN:VCALENDAR
VERSION:2.0
PRODID:-//Israels Vänner - ECPv6.15.20//NONSGML v1.0//EN
CALSCALE:GREGORIAN
METHOD:PUBLISH
X-WR-CALNAME:Israels Vänner
X-ORIGINAL-URL:https://www.israelsvanner.se
X-WR-CALDESC:Händelser för Israels Vänner
REFRESH-INTERVAL;VALUE=DURATION:PT1H
X-Robots-Tag:noindex
X-PUBLISHED-TTL:PT1H
BEGIN:VTIMEZONE
TZID:Europe/Stockholm
BEGIN:DAYLIGHT
TZOFFSETFROM:+0100
TZOFFSETTO:+0200
TZNAME:CEST
DTSTART:20240331T010000
END:DAYLIGHT
BEGIN:STANDARD
TZOFFSETFROM:+0200
TZOFFSETTO:+0100
TZNAME:CET
DTSTART:20241027T010000
END:STANDARD
BEGIN:DAYLIGHT
TZOFFSETFROM:+0100
TZOFFSETTO:+0200
TZNAME:CEST
DTSTART:20250330T010000
END:DAYLIGHT
BEGIN:STANDARD
TZOFFSETFROM:+0200
TZOFFSETTO:+0100
TZNAME:CET
DTSTART:20251026T010000
END:STANDARD
BEGIN:DAYLIGHT
TZOFFSETFROM:+0100
TZOFFSETTO:+0200
TZNAME:CEST
DTSTART:20260329T010000
END:DAYLIGHT
BEGIN:STANDARD
TZOFFSETFROM:+0200
TZOFFSETTO:+0100
TZNAME:CET
DTSTART:20261025T010000
END:STANDARD
BEGIN:DAYLIGHT
TZOFFSETFROM:+0100
TZOFFSETTO:+0200
TZNAME:CEST
DTSTART:20270328T010000
END:DAYLIGHT
BEGIN:STANDARD
TZOFFSETFROM:+0200
TZOFFSETTO:+0100
TZNAME:CET
DTSTART:20271031T010000
END:STANDARD
END:VTIMEZONE
BEGIN:VEVENT
DTSTART;TZID=Europe/Stockholm:20260307T160000
DTEND;TZID=Europe/Stockholm:20260307T180000
DTSTAMP:20260421T185355
CREATED:20260122T080857Z
LAST-MODIFIED:20260127T091010Z
UID:10000159-1772899200-1772906400@www.israelsvanner.se
SUMMARY:Helsingborg: Har judarna rätt till landet Israel?\, Magnus Jonegård
DESCRIPTION:Har judarna rätt till landet Israel? \nTalare: Magnus Jonegård
URL:https://www.israelsvanner.se/event/helsingborg-magnus-jonegard/
LOCATION:Välluvs församlingshem\, Helsingborg
ATTACH;FMTTYPE=image/jpeg:https://www.israelsvanner.se/wp-content/uploads/2025/09/Magnus-J-Rep.jpg
END:VEVENT
BEGIN:VEVENT
DTSTART;TZID=Europe/Stockholm:20251122T160000
DTEND;TZID=Europe/Stockholm:20251122T200000
DTSTAMP:20260421T185355
CREATED:20251106T115859Z
LAST-MODIFIED:20251106T115859Z
UID:10000140-1763827200-1763841600@www.israelsvanner.se
SUMMARY:Helsingborg: "Israel - ett Guds mirakel" & "Gaza tillhör Juda stam"
DESCRIPTION:”Israel – ett Guds mirakel”\, Anki Ander \noch ”Gaza tillhör Juda stam”\, Dan Johansson \n  \nDatum & tid: 22/11 kl 16.00 \nPlats: Välluvs församlingshem .
URL:https://www.israelsvanner.se/event/helsingborg-israel-ett-guds-mirakel-gaza-tillhor-juda-stam/
LOCATION:Välluvs församlingshem\, Helsingborg
END:VEVENT
END:VCALENDAR