BEGIN:VCALENDAR
VERSION:2.0
PRODID:-//Israels Vänner - ECPv6.15.20//NONSGML v1.0//EN
CALSCALE:GREGORIAN
METHOD:PUBLISH
X-WR-CALNAME:Israels Vänner
X-ORIGINAL-URL:https://www.israelsvanner.se
X-WR-CALDESC:Händelser för Israels Vänner
REFRESH-INTERVAL;VALUE=DURATION:PT1H
X-Robots-Tag:noindex
X-PUBLISHED-TTL:PT1H
BEGIN:VTIMEZONE
TZID:Europe/Stockholm
BEGIN:DAYLIGHT
TZOFFSETFROM:+0100
TZOFFSETTO:+0200
TZNAME:CEST
DTSTART:20240331T010000
END:DAYLIGHT
BEGIN:STANDARD
TZOFFSETFROM:+0200
TZOFFSETTO:+0100
TZNAME:CET
DTSTART:20241027T010000
END:STANDARD
BEGIN:DAYLIGHT
TZOFFSETFROM:+0100
TZOFFSETTO:+0200
TZNAME:CEST
DTSTART:20250330T010000
END:DAYLIGHT
BEGIN:STANDARD
TZOFFSETFROM:+0200
TZOFFSETTO:+0100
TZNAME:CET
DTSTART:20251026T010000
END:STANDARD
BEGIN:DAYLIGHT
TZOFFSETFROM:+0100
TZOFFSETTO:+0200
TZNAME:CEST
DTSTART:20260329T010000
END:DAYLIGHT
BEGIN:STANDARD
TZOFFSETFROM:+0200
TZOFFSETTO:+0100
TZNAME:CET
DTSTART:20261025T010000
END:STANDARD
BEGIN:DAYLIGHT
TZOFFSETFROM:+0100
TZOFFSETTO:+0200
TZNAME:CEST
DTSTART:20270328T010000
END:DAYLIGHT
BEGIN:STANDARD
TZOFFSETFROM:+0200
TZOFFSETTO:+0100
TZNAME:CET
DTSTART:20271031T010000
END:STANDARD
END:VTIMEZONE
BEGIN:VEVENT
DTSTART;TZID=Europe/Stockholm:20260418T140000
DTEND;TZID=Europe/Stockholm:20260418T170000
DTSTAMP:20260421T123504
CREATED:20260324T093900Z
LAST-MODIFIED:20260324T093900Z
UID:10000174-1776520800-1776531600@www.israelsvanner.se
SUMMARY:Linköping - När stenarna talar\, arkeologi från Davids stad
DESCRIPTION:När stenarna ropar\, arkeologi från Davids stad\nRobin Lundgren \nTid: 18 apr kl. 14:00\nPlats: Cupolen\, Linköping \nÖvrigt: Vi fikar innan (ca 13.30) \nArr: Israelsgruppen i Linköping
URL:https://www.israelsvanner.se/event/linkoping-nar-stenarna-talar-arkeologi-fran-davids-stad/
LOCATION:Cupolen\, Linköping\, Linköping
END:VEVENT
BEGIN:VEVENT
DTSTART;TZID=Europe/Stockholm:20260411T140000
DTEND;TZID=Europe/Stockholm:20260411T163000
DTSTAMP:20260421T123504
CREATED:20260324T094030Z
LAST-MODIFIED:20260324T094138Z
UID:10000175-1775916000-1775925000@www.israelsvanner.se
SUMMARY:Linköping - Israel i politikens centrum
DESCRIPTION:Israel i politikens centrum \nMagnus Oscarsson \nTid: 11 apr kl. 14:00\nPlats: Cupolen\, Linköping \nÖvrigt: Vi fikar innan (ca 13.30) \nArr: Israelsgruppen i Linköping
URL:https://www.israelsvanner.se/event/29381/
LOCATION:Cupolen\, Linköping\, Linköping
END:VEVENT
BEGIN:VEVENT
DTSTART;TZID=Europe/Stockholm:20251122T140000
DTEND;TZID=Europe/Stockholm:20251122T160000
DTSTAMP:20260421T123504
CREATED:20251113T195902Z
LAST-MODIFIED:20251113T195902Z
UID:10000142-1763820000-1763827200@www.israelsvanner.se
SUMMARY:Linköping\, Cupolen: Två år efter den 7/10 och Vad händer nu?\, Gitten Öholm
DESCRIPTION:Två år efter den 7/10 och Vad händer nu? \nTalare: Gitten Öholm. \nDatum: Den 22/11 kl 14.00 \nPlats: Cupolen\, Linköping. \n 
URL:https://www.israelsvanner.se/event/linkoping-cupolen-tva-ar-efter-den-7-10-och-vad-hander-nu-gitten-oholm/
LOCATION:Cupolen\, Linköping\, Linköping
END:VEVENT
BEGIN:VEVENT
DTSTART;TZID=Europe/Stockholm:20250910T180000
DTEND;TZID=Europe/Stockholm:20250910T200000
DTSTAMP:20260421T123504
CREATED:20250901T080143Z
LAST-MODIFIED:20250901T123117Z
UID:10000110-1757527200-1757534400@www.israelsvanner.se
SUMMARY:Linköping: En kväll med Yaakov Selavan\, vice borgmästare från Israel
DESCRIPTION:Ämne: En kväll med Yaakov Selavan\, vice borgmästare från Israel\nTalare: Yaakov Selavan \nDatum och tid: 10-sep kl 18:00\nPlats: Cupolen\, Linköping \n  \nANMÄLAN\nFör anmälan\, följ länken: https://www.shalom.se/anm%C3%A4lan-cupolen\nEller maila till: shalomsvanner@gmail.com \nFri entré. Insläpp från kl 17.45. Program 18.00-20.00. Enkel plockmat och kaffe till självkostnad.\nSpecialerbjudanden under kvällen.\nArr: Israelgruppen i Linköping\, Ebenezer Operation Exodus\, Vänskapsförbunder Sverige-Israel Östergötland\, Israels Vänner \n  \nBESKRIVNING\nVar med och upplev en unik och garanterat intressant kväll med Golan-regionens vice borgmästare\, Yaakov Selavan.\nYaakov ledde Golan-området\, som gränsar till Libanon\, Syrien och Jordanien under Operation Rising Lion\, i kriget med Iran.\nHan delar anmärkningsvärda berättelser om folket i Golan som\, trots krig\, vägrade evakuera\, utan valde att stanna för att bygga en livskraftig framtid för sina familjer och hem. \nInnan Yaakov Selavan blev vice borgmästare\, 2024\, jobbade han internationellt som talare i ledarskapsfrågor. Han har även grundat ideella föreningen iWISH till stöd för sårade soldater. \n 
URL:https://www.israelsvanner.se/event/linkoping-en-kvall-med-yaakov-selavan-vice-borgmastare-fran-israel/
LOCATION:Cupolen\, Linköping\, Linköping
END:VEVENT
END:VCALENDAR