BEGIN:VCALENDAR
VERSION:2.0
PRODID:-//Israels Vänner - ECPv6.15.20//NONSGML v1.0//EN
CALSCALE:GREGORIAN
METHOD:PUBLISH
X-ORIGINAL-URL:https://www.israelsvanner.se
X-WR-CALDESC:Händelser för Israels Vänner
REFRESH-INTERVAL;VALUE=DURATION:PT1H
X-Robots-Tag:noindex
X-PUBLISHED-TTL:PT1H
BEGIN:VTIMEZONE
TZID:Europe/Stockholm
BEGIN:DAYLIGHT
TZOFFSETFROM:+0100
TZOFFSETTO:+0200
TZNAME:CEST
DTSTART:20240331T010000
END:DAYLIGHT
BEGIN:STANDARD
TZOFFSETFROM:+0200
TZOFFSETTO:+0100
TZNAME:CET
DTSTART:20241027T010000
END:STANDARD
BEGIN:DAYLIGHT
TZOFFSETFROM:+0100
TZOFFSETTO:+0200
TZNAME:CEST
DTSTART:20250330T010000
END:DAYLIGHT
BEGIN:STANDARD
TZOFFSETFROM:+0200
TZOFFSETTO:+0100
TZNAME:CET
DTSTART:20251026T010000
END:STANDARD
BEGIN:DAYLIGHT
TZOFFSETFROM:+0100
TZOFFSETTO:+0200
TZNAME:CEST
DTSTART:20260329T010000
END:DAYLIGHT
BEGIN:STANDARD
TZOFFSETFROM:+0200
TZOFFSETTO:+0100
TZNAME:CET
DTSTART:20261025T010000
END:STANDARD
END:VTIMEZONE
BEGIN:VEVENT
DTSTART;TZID=Europe/Stockholm:20251118T180000
DTEND;TZID=Europe/Stockholm:20251118T200000
DTSTAMP:20260420T074848
CREATED:20251001T133648Z
LAST-MODIFIED:20251001T133648Z
UID:10000128-1763488800-1763496000@www.israelsvanner.se
SUMMARY:Malmö: Det profetiska Ordet
DESCRIPTION:Varmt välkomna till en spännande kväll med god gemenskap\, härlig atmosfär och fokus på Guds ord.\nVi möts redan kl. 18.00 då vi tar en kopp och delar gemenskapen för att sedan kl. 18.30 drar igång med kvällens program.
URL:https://www.israelsvanner.se/event/malmo-det-profetiska-ordet-3/
LOCATION:Castnersgatan\, Malmö\, Castnersgatan 1\, Malmö (Limhamn)\, 21616\, Sweden
ATTACH;FMTTYPE=image/jpeg:https://www.israelsvanner.se/wp-content/uploads/2025/10/DPO-17-november.jpg
ORGANIZER;CN="Israels V%C3%A4nner":MAILTO:info@israelsvanner.se
END:VEVENT
BEGIN:VEVENT
DTSTART;TZID=Europe/Stockholm:20251021T180000
DTEND;TZID=Europe/Stockholm:20251021T200000
DTSTAMP:20260420T074848
CREATED:20251001T133521Z
LAST-MODIFIED:20251009T110134Z
UID:10000127-1761069600-1761076800@www.israelsvanner.se
SUMMARY:Malmö: Det profetiska Ordet
DESCRIPTION:Varmt välkomna till en spännande kväll med god gemenskap\, härlig atmosfär och fokus på Guds ord. \nVi möts redan kl. 18.00 då vi tar en kopp och delar gemenskapen för att sedan kl. 18.30 drar igång med kvällens program. \nPlats: C3 Church\, Limhamn\, Malmö
URL:https://www.israelsvanner.se/event/malmo-det-profetiska-ordet-2/
LOCATION:Castnersgatan\, Malmö\, Castnersgatan 1\, Malmö (Limhamn)\, 21616\, Sweden
ATTACH;FMTTYPE=image/jpeg:https://www.israelsvanner.se/wp-content/uploads/2025/10/DPO-21-oktober.jpg
ORGANIZER;CN="Israels V%C3%A4nner":MAILTO:info@israelsvanner.se
END:VEVENT
BEGIN:VEVENT
DTSTART;TZID=Europe/Stockholm:20250906T173000
DTEND;TZID=Europe/Stockholm:20250906T190000
DTSTAMP:20260420T074848
CREATED:20250826T111507Z
LAST-MODIFIED:20250828T075341Z
UID:10000107-1757179800-1757185200@www.israelsvanner.se
SUMMARY:Malmö: Kvällsmöte med lovsång och predikan
DESCRIPTION:Ämne: Stabilitet\, lydnad och tillväxt i en orolig tid \nTalare: Carlos Villablanca \nDatum och tid: 6 september  kl. 17:30 \nPlats: C3-church Limhamn\, RF Bergsgatan 56 (Castnersgatan 1)
URL:https://www.israelsvanner.se/event/malmo-kvallsmote-med-lovsang-och-predikan/
LOCATION:Castnersgatan\, Malmö\, Castnersgatan 1\, Malmö (Limhamn)\, 21616\, Sweden
ATTACH;FMTTYPE=image/jpeg:https://www.israelsvanner.se/wp-content/uploads/2025/08/Kvallsmote-1.jpg
ORGANIZER;CN="Israels V%C3%A4nner":MAILTO:info@israelsvanner.se
END:VEVENT
BEGIN:VEVENT
DTSTART;TZID=Europe/Stockholm:20250906T094500
DTEND;TZID=Europe/Stockholm:20250906T200000
DTSTAMP:20260420T074848
CREATED:20250609T120159Z
LAST-MODIFIED:20250814T065247Z
UID:10000092-1757151900-1757188800@www.israelsvanner.se
SUMMARY:Malmö: Ledardag "Därför gör du väl i att investera i ditt ledarskap"
DESCRIPTION:Nu var det dags igen för vår andra inplanerade ledardag för det här året.\nSist i Värnamo så hade vi en berikande dag och vi tror att årets sista kommer att bli lika bra. \nVi välkomnar dig till en spännande dag du som är ledare\, sammankallande\, styrelsemedlem\, anställd och vänner inom Israels Vänners arbete och som vill göra en skillnad för Guds rike i den här tiden.   \nKristet ledarskap har Jesus som sin främsta förebild vars liv drev av en otrolig medvetenhet av vem han var\, vad som var hans kallelse\, uppdrag och slutgiltiga mål. Samma medvetenhet borde genomsyra våra liv vi som är hans efterföljare. \n ”Därför gör du väl i att investera i ditt ledarskap”\n\nAnmälan: https://ge.israelsvanner.se/event/konferens-endagskonferens-malmo  \nPROGRAM\n09:45 Kaffe och smörgås\n10:15 Lovsång och bön\n10:30 Pass 1\n11:15 Paus\n11:25 Pass 2\n12:15 Lunch (Anmälan krävs)\n13:30 Pass 3 Panelsamtal med gäster\n14:15 Paus\n14:30 Pass 4\n15:15 Paus \n15:30 Pass 5\n16:15 Paus\n16:30 Kvällsmat\n17:30 Kvällsmöte med lovsång och predikan\n18:30 Slut \nBland talarna: Torbjörn Aronson\, Dan Johansson\, Anki Ander och Carlos Villablanca. \nDu anmäler dig senast den 31 augusti
URL:https://www.israelsvanner.se/event/malmo-ledardag/
LOCATION:Castnersgatan\, Malmö\, Castnersgatan 1\, Malmö (Limhamn)\, 21616\, Sweden
ATTACH;FMTTYPE=image/jpeg:https://www.israelsvanner.se/wp-content/uploads/2025/06/ledardag-1.jpg
ORGANIZER;CN="Israels V%C3%A4nner":MAILTO:info@israelsvanner.se
END:VEVENT
BEGIN:VEVENT
DTSTART;TZID=Europe/Stockholm:20250426T160000
DTEND;TZID=Europe/Stockholm:20250426T193000
DTSTAMP:20260420T074848
CREATED:20250127T094230Z
LAST-MODIFIED:20250127T100740Z
UID:10000064-1745683200-1745695800@www.israelsvanner.se
SUMMARY:Årsmöte
DESCRIPTION:Välkommen att fira med oss.\nVi inleder med att fira genom en blandning av sång\, musik\, tal\, information och mat. Sedan övergår vi till att gå igenom året som varit samt till val av styrelserepresentanter m.m. \nDu kan välja att vara med på plats i Malmö eller genom att delta på en ”satellitplats” där får möjligheten att möta andra Israelvänner eller genom att delta digialt via din dator/mobil. \nObservera att det krävs föranmälan till årsmötet. \nLänk: Information om anmälan och årsmötet \n 
URL:https://www.israelsvanner.se/event/arsmote25/
LOCATION:Castnersgatan\, Malmö\, Castnersgatan 1\, Malmö (Limhamn)\, 21616\, Sweden
ORGANIZER;CN="Israels V%C3%A4nner":MAILTO:info@israelsvanner.se
END:VEVENT
END:VCALENDAR